BEGIN:VCALENDAR
VERSION:2.0
PRODID:JMS Hockey
X-PUBLISHED-TTL:P1W
BEGIN:VEVENT
UID:69e7cd3a55611
DTSTART:20160321T012000Z
SEQUENCE:0
TRANSP:OPAQUE
DTEND:20160321T023000Z
URL:http://jmshockey.com/league/game/546
LOCATION:Inver Grove Heights Community Center
SUMMARY:Shapslots vs. Dream Team 3 at Inver Grove Heights Community Center 
 (Loon State Hockey Leagues)
CLASS:PUBLIC
DTSTAMP:20260421T141714Z
END:VEVENT
END:VCALENDAR