BEGIN:VCALENDAR
VERSION:2.0
PRODID:JMS Hockey
X-PUBLISHED-TTL:P1W
BEGIN:VEVENT
UID:69e79a8d81fe1
DTSTART:20160307T022000Z
SEQUENCE:0
TRANSP:OPAQUE
DTEND:20160307T033000Z
URL:http://jmshockey.com/league/game/542
LOCATION:Inver Grove Heights Community Center
SUMMARY:Fighting Saints vs. Shapslots at Inver Grove Heights Community Cent
 er (Loon State Hockey Leagues)
CLASS:PUBLIC
DTSTAMP:20260421T104101Z
END:VEVENT
END:VCALENDAR