BEGIN:VCALENDAR
VERSION:2.0
PRODID:JMS Hockey
X-PUBLISHED-TTL:P1W
BEGIN:VEVENT
UID:69e7afd8ef57d
DTSTART:20160229T031500Z
SEQUENCE:0
TRANSP:OPAQUE
DTEND:20160229T042500Z
URL:http://jmshockey.com/league/game/540
LOCATION:Inver Grove Heights Community Center
SUMMARY:Hatrick Swayze vs. Fighting Saints at Inver Grove Heights Community
  Center (Loon State Hockey Leagues)
CLASS:PUBLIC
DTSTAMP:20260421T121152Z
END:VEVENT
END:VCALENDAR