BEGIN:VCALENDAR
VERSION:2.0
PRODID:JMS Hockey
X-PUBLISHED-TTL:P1W
BEGIN:VEVENT
UID:69e7cd3a35ee9
DTSTART:20160201T021500Z
SEQUENCE:0
TRANSP:OPAQUE
DTEND:20160201T032500Z
URL:http://jmshockey.com/league/game/535
LOCATION:Inver Grove Heights Community Center
SUMMARY:Hatrick Swayze vs. Dream Team 3 at Inver Grove Heights Community Ce
 nter (Loon State Hockey Leagues)
CLASS:PUBLIC
DTSTAMP:20260421T141714Z
END:VEVENT
END:VCALENDAR