BEGIN:VCALENDAR
VERSION:2.0
PRODID:JMS Hockey
X-PUBLISHED-TTL:P1W
BEGIN:VEVENT
UID:69e7c55686351
DTSTART:20160125T021500Z
SEQUENCE:0
TRANSP:OPAQUE
DTEND:20160125T032500Z
URL:http://jmshockey.com/league/game/533
LOCATION:Inver Grove Heights Community Center
SUMMARY:Dream Team 3 vs. Shapslots at Inver Grove Heights Community Center 
 (Loon State Hockey Leagues)
CLASS:PUBLIC
DTSTAMP:20260421T134334Z
END:VEVENT
END:VCALENDAR