BEGIN:VCALENDAR
VERSION:2.0
PRODID:JMS Hockey
X-PUBLISHED-TTL:P1W
BEGIN:VEVENT
UID:69e7bb8a0b799
DTSTART:20160111T034500Z
SEQUENCE:0
TRANSP:OPAQUE
DTEND:20160111T045500Z
URL:http://jmshockey.com/league/game/530
LOCATION:Inver Grove Heights Community Center
SUMMARY:Hatrick Swayze vs. Dream Team 3 at Inver Grove Heights Community Ce
 nter (Loon State Hockey Leagues)
CLASS:PUBLIC
DTSTAMP:20260421T130146Z
END:VEVENT
END:VCALENDAR