BEGIN:VCALENDAR
VERSION:2.0
PRODID:JMS Hockey
X-PUBLISHED-TTL:P1W
BEGIN:VEVENT
UID:69e7c76b46bcf
DTSTART:20160229T031000Z
SEQUENCE:0
TRANSP:OPAQUE
DTEND:20160229T044000Z
URL:http://jmshockey.com/league/game/528
LOCATION:Highland Arena
SUMMARY:H101 White vs. H101 Black at Highland Arena (Loon State Hockey Leag
 ues)
CLASS:PUBLIC
DTSTAMP:20260421T135227Z
END:VEVENT
END:VCALENDAR