BEGIN:VCALENDAR
VERSION:2.0
PRODID:JMS Hockey
X-PUBLISHED-TTL:P1W
BEGIN:VEVENT
UID:69e7ae076983e
DTSTART:20160314T021000Z
SEQUENCE:0
TRANSP:OPAQUE
DTEND:20160314T034000Z
URL:http://jmshockey.com/league/game/523
LOCATION:Highland Arena
SUMMARY:H101 White vs. H101 Black at Highland Arena (Loon State Hockey Leag
 ues)
CLASS:PUBLIC
DTSTAMP:20260421T120407Z
END:VEVENT
END:VCALENDAR