BEGIN:VCALENDAR
VERSION:2.0
PRODID:JMS Hockey
X-PUBLISHED-TTL:P1W
BEGIN:VEVENT
UID:69e7b5ed1fb0a
DTSTART:20160307T031000Z
SEQUENCE:0
TRANSP:OPAQUE
DTEND:20160307T044000Z
URL:http://jmshockey.com/league/game/522
LOCATION:Highland Arena
SUMMARY:H101 Black vs. H101 White at Highland Arena (Loon State Hockey Leag
 ues)
CLASS:PUBLIC
DTSTAMP:20260421T123749Z
END:VEVENT
END:VCALENDAR