BEGIN:VCALENDAR
VERSION:2.0
PRODID:JMS Hockey
X-PUBLISHED-TTL:P1W
BEGIN:VEVENT
UID:69e7c5568764d
DTSTART:20160125T025000Z
SEQUENCE:0
TRANSP:OPAQUE
DTEND:20160125T042000Z
URL:http://jmshockey.com/league/game/521
LOCATION:Highland Arena
SUMMARY:H101 Black vs. H101 White at Highland Arena (Loon State Hockey Leag
 ues)
CLASS:PUBLIC
DTSTAMP:20260421T134334Z
END:VEVENT
END:VCALENDAR