BEGIN:VCALENDAR
VERSION:2.0
PRODID:JMS Hockey
X-PUBLISHED-TTL:P1W
BEGIN:VEVENT
UID:69e7af95aea43
DTSTART:20140515T004500Z
SEQUENCE:0
TRANSP:OPAQUE
DTEND:20140515T004500Z
URL:http://jmshockey.com/league/game/52
LOCATION:Eden Prairie Comm Ctr
SUMMARY:Original Honey Badgers vs. Honey Badgers 2 at Eden Prairie Comm Ctr
  (Loon State Hockey Leagues)
CLASS:PUBLIC
DTSTAMP:20260421T121045Z
END:VEVENT
END:VCALENDAR