BEGIN:VCALENDAR
VERSION:2.0
PRODID:JMS Hockey
X-PUBLISHED-TTL:P1W
BEGIN:VEVENT
UID:69e7ae073cd27
DTSTART:20160314T023000Z
SEQUENCE:0
TRANSP:OPAQUE
DTEND:20160314T034000Z
URL:http://jmshockey.com/league/game/517
LOCATION:Doug Woog Arena (Wakota)
SUMMARY:Rubber Puckies* vs. Slap Shart at Doug Woog Arena (Wakota) (Loon St
 ate Hockey Leagues)
CLASS:PUBLIC
DTSTAMP:20260421T120407Z
END:VEVENT
END:VCALENDAR