BEGIN:VCALENDAR
VERSION:2.0
PRODID:JMS Hockey
X-PUBLISHED-TTL:P1W
BEGIN:VEVENT
UID:69e77b5d2b1fb
DTSTART:20160314T012000Z
SEQUENCE:0
TRANSP:OPAQUE
DTEND:20160314T023000Z
URL:http://jmshockey.com/league/game/516
LOCATION:Doug Woog Arena (Wakota)
SUMMARY:Mother Puckers vs. Putting on the Foil at Doug Woog Arena (Wakota) 
 (Loon State Hockey Leagues)
CLASS:PUBLIC
DTSTAMP:20260421T082757Z
END:VEVENT
END:VCALENDAR