BEGIN:VCALENDAR
VERSION:2.0
PRODID:JMS Hockey
X-PUBLISHED-TTL:P1W
BEGIN:VEVENT
UID:69e791d50ea5e
DTSTART:20160307T043000Z
SEQUENCE:0
TRANSP:OPAQUE
DTEND:20160307T054000Z
URL:http://jmshockey.com/league/game/515
LOCATION:Doug Woog Arena (Wakota)
SUMMARY:Rubber Puckies* vs. Mother Puckers at Doug Woog Arena (Wakota) (Loo
 n State Hockey Leagues)
CLASS:PUBLIC
DTSTAMP:20260421T100349Z
END:VEVENT
END:VCALENDAR