BEGIN:VCALENDAR
VERSION:2.0
PRODID:JMS Hockey
X-PUBLISHED-TTL:P1W
BEGIN:VEVENT
UID:69e7a7eab2645
DTSTART:20160229T033000Z
SEQUENCE:0
TRANSP:OPAQUE
DTEND:20160229T044000Z
URL:http://jmshockey.com/league/game/513
LOCATION:Doug Woog Arena (Wakota)
SUMMARY:Putting on the Foil vs. Rubber Puckies* at Doug Woog Arena (Wakota)
  (Loon State Hockey Leagues)
CLASS:PUBLIC
DTSTAMP:20260421T113802Z
END:VEVENT
END:VCALENDAR