BEGIN:VCALENDAR
VERSION:2.0
PRODID:JMS Hockey
X-PUBLISHED-TTL:P1W
BEGIN:VEVENT
UID:69e791d4b749a
DTSTART:20160118T040000Z
SEQUENCE:0
TRANSP:OPAQUE
DTEND:20160118T051000Z
URL:http://jmshockey.com/league/game/505
LOCATION:Doug Woog Arena (Wakota)
SUMMARY:Mother Puckers vs. Putting on the Foil at Doug Woog Arena (Wakota) 
 (Loon State Hockey Leagues)
CLASS:PUBLIC
DTSTAMP:20260421T100348Z
END:VEVENT
END:VCALENDAR