BEGIN:VCALENDAR
VERSION:2.0
PRODID:JMS Hockey
X-PUBLISHED-TTL:P1W
BEGIN:VEVENT
UID:69e7ae0af163e
DTSTART:20160118T025000Z
SEQUENCE:0
TRANSP:OPAQUE
DTEND:20160118T040000Z
URL:http://jmshockey.com/league/game/504
LOCATION:Doug Woog Arena (Wakota)
SUMMARY:Rubber Puckies* vs. Slap Shart at Doug Woog Arena (Wakota) (Loon St
 ate Hockey Leagues)
CLASS:PUBLIC
DTSTAMP:20260421T120410Z
END:VEVENT
END:VCALENDAR