BEGIN:VCALENDAR
VERSION:2.0
PRODID:JMS Hockey
X-PUBLISHED-TTL:P1W
BEGIN:VEVENT
UID:69e7a7e9acbb5
DTSTART:20160111T033000Z
SEQUENCE:0
TRANSP:OPAQUE
DTEND:20160111T044000Z
URL:http://jmshockey.com/league/game/503
LOCATION:Doug Woog Arena (Wakota)
SUMMARY:Putting on the Foil vs. Slap Shart at Doug Woog Arena (Wakota) (Loo
 n State Hockey Leagues)
CLASS:PUBLIC
DTSTAMP:20260421T113801Z
END:VEVENT
END:VCALENDAR