BEGIN:VCALENDAR
VERSION:2.0
PRODID:JMS Hockey
X-PUBLISHED-TTL:P1W
BEGIN:VEVENT
UID:69e791d4d35bc
DTSTART:20160111T022000Z
SEQUENCE:0
TRANSP:OPAQUE
DTEND:20160111T033000Z
URL:http://jmshockey.com/league/game/502
LOCATION:Doug Woog Arena (Wakota)
SUMMARY:Mother Puckers vs. Rubber Puckies* at Doug Woog Arena (Wakota) (Loo
 n State Hockey Leagues)
CLASS:PUBLIC
DTSTAMP:20260421T100348Z
END:VEVENT
END:VCALENDAR