BEGIN:VCALENDAR
VERSION:2.0
PRODID:JMS Hockey
X-PUBLISHED-TTL:P1W
BEGIN:VEVENT
UID:69e7ae089623e
DTSTART:20140508T004500Z
SEQUENCE:0
TRANSP:OPAQUE
DTEND:20140508T004500Z
URL:http://jmshockey.com/league/game/50
LOCATION:Eden Prairie Comm Ctr
SUMMARY:Honey Badgers 2 vs. The Dekes of Hazard at Eden Prairie Comm Ctr (L
 oon State Hockey Leagues)
CLASS:PUBLIC
DTSTAMP:20260421T120408Z
END:VEVENT
END:VCALENDAR