BEGIN:VCALENDAR
VERSION:2.0
PRODID:JMS Hockey
X-PUBLISHED-TTL:P1W
BEGIN:VEVENT
UID:69e7ae0d7f4f3
DTSTART:20130921T003000Z
SEQUENCE:0
TRANSP:OPAQUE
DTEND:20130921T003000Z
URL:http://jmshockey.com/league/game/5
LOCATION:Eden Prairie Comm Ctr
SUMMARY:Honey Badgers vs. A-Team at Eden Prairie Comm Ctr (Loon State Hocke
 y Leagues)
CLASS:PUBLIC
DTSTAMP:20260421T120413Z
END:VEVENT
END:VCALENDAR