BEGIN:VCALENDAR
VERSION:2.0
PRODID:JMS Hockey
X-PUBLISHED-TTL:P1W
BEGIN:VEVENT
UID:69e7bb6fad3e1
DTSTART:20160404T021500Z
SEQUENCE:0
TRANSP:OPAQUE
DTEND:20160404T033000Z
URL:http://jmshockey.com/league/game/497
LOCATION:Eden Prairie Comm Ctr
SUMMARY:No Ragrets vs. Dirty Mike and the Boys at Eden Prairie Comm Ctr (Lo
 on State Hockey Leagues)
CLASS:PUBLIC
DTSTAMP:20260421T130119Z
END:VEVENT
END:VCALENDAR