BEGIN:VCALENDAR
VERSION:2.0
PRODID:JMS Hockey
X-PUBLISHED-TTL:P1W
BEGIN:VEVENT
UID:69e7cd3a565c3
DTSTART:20160321T004500Z
SEQUENCE:0
TRANSP:OPAQUE
DTEND:20160321T020000Z
URL:http://jmshockey.com/league/game/493
LOCATION:Eden Prairie Comm Ctr
SUMMARY:No Ragrets vs. Great Day for Hay at Eden Prairie Comm Ctr (Loon Sta
 te Hockey Leagues)
CLASS:PUBLIC
DTSTAMP:20260421T141714Z
END:VEVENT
END:VCALENDAR