BEGIN:VCALENDAR
VERSION:2.0
PRODID:JMS Hockey
X-PUBLISHED-TTL:P1W
BEGIN:VEVENT
UID:69e7ae08c27c0
DTSTART:20160314T004500Z
SEQUENCE:0
TRANSP:OPAQUE
DTEND:20160314T020000Z
URL:http://jmshockey.com/league/game/490
LOCATION:Eden Prairie Comm Ctr
SUMMARY:Dirty Mike and the Boys vs. Beer League Racers*** at Eden Prairie C
 omm Ctr (Loon State Hockey Leagues)
CLASS:PUBLIC
DTSTAMP:20260421T120408Z
END:VEVENT
END:VCALENDAR