BEGIN:VCALENDAR
VERSION:2.0
PRODID:JMS Hockey
X-PUBLISHED-TTL:P1W
BEGIN:VEVENT
UID:69e7cf57d5a74
DTSTART:20160313T231500Z
SEQUENCE:0
TRANSP:OPAQUE
DTEND:20160314T003000Z
URL:http://jmshockey.com/league/game/489
LOCATION:Eden Prairie Comm Ctr
SUMMARY:Great Day for Hay vs. The Pollock Factor at Eden Prairie Comm Ctr (
 Loon State Hockey Leagues)
CLASS:PUBLIC
DTSTAMP:20260421T142615Z
END:VEVENT
END:VCALENDAR