BEGIN:VCALENDAR
VERSION:2.0
PRODID:JMS Hockey
X-PUBLISHED-TTL:P1W
BEGIN:VEVENT
UID:69e7afd8ad9c9
DTSTART:20160307T020000Z
SEQUENCE:0
TRANSP:OPAQUE
DTEND:20160307T031500Z
URL:http://jmshockey.com/league/game/487
LOCATION:Eden Prairie Comm Ctr
SUMMARY:Beer League Racers*** vs. Faceoffs FTW at Eden Prairie Comm Ctr (Lo
 on State Hockey Leagues)
CLASS:PUBLIC
DTSTAMP:20260421T121152Z
END:VEVENT
END:VCALENDAR