BEGIN:VCALENDAR
VERSION:2.0
PRODID:JMS Hockey
X-PUBLISHED-TTL:P1W
BEGIN:VEVENT
UID:69e7cd3a4508b
DTSTART:20160229T021500Z
SEQUENCE:0
TRANSP:OPAQUE
DTEND:20160229T033000Z
URL:http://jmshockey.com/league/game/484
LOCATION:Eden Prairie Comm Ctr
SUMMARY:The Pollock Factor vs. Dirty Mike and the Boys at Eden Prairie Comm
  Ctr (Loon State Hockey Leagues)
CLASS:PUBLIC
DTSTAMP:20260421T141714Z
END:VEVENT
END:VCALENDAR