BEGIN:VCALENDAR
VERSION:2.0
PRODID:JMS Hockey
X-PUBLISHED-TTL:P1W
BEGIN:VEVENT
UID:69e7b192d4c68
DTSTART:20160222T033000Z
SEQUENCE:0
TRANSP:OPAQUE
DTEND:20160222T044500Z
URL:http://jmshockey.com/league/game/482
LOCATION:Eden Prairie Comm Ctr
SUMMARY:Beer League Racers*** vs. Great Day for Hay at Eden Prairie Comm Ct
 r (Loon State Hockey Leagues)
CLASS:PUBLIC
DTSTAMP:20260421T121914Z
END:VEVENT
END:VCALENDAR