BEGIN:VCALENDAR
VERSION:2.0
PRODID:JMS Hockey
X-PUBLISHED-TTL:P1W
BEGIN:VEVENT
UID:69e7cd3a25f4a
DTSTART:20160201T033000Z
SEQUENCE:0
TRANSP:OPAQUE
DTEND:20160201T044500Z
URL:http://jmshockey.com/league/game/478
LOCATION:Eden Prairie Comm Ctr
SUMMARY:Great Day for Hay vs. No Ragrets at Eden Prairie Comm Ctr (Loon Sta
 te Hockey Leagues)
CLASS:PUBLIC
DTSTAMP:20260421T141714Z
END:VEVENT
END:VCALENDAR