BEGIN:VCALENDAR
VERSION:2.0
PRODID:JMS Hockey
X-PUBLISHED-TTL:P1W
BEGIN:VEVENT
UID:69e7cd3a35ca3
DTSTART:20160118T033000Z
SEQUENCE:0
TRANSP:OPAQUE
DTEND:20160118T044500Z
URL:http://jmshockey.com/league/game/472
LOCATION:Eden Prairie Comm Ctr
SUMMARY:Dirty Mike and the Boys vs. Great Day for Hay at Eden Prairie Comm 
 Ctr (Loon State Hockey Leagues)
CLASS:PUBLIC
DTSTAMP:20260421T141714Z
END:VEVENT
END:VCALENDAR