BEGIN:VCALENDAR
VERSION:2.0
PRODID:JMS Hockey
X-PUBLISHED-TTL:P1W
BEGIN:VEVENT
UID:69e7bb9e22002
DTSTART:20160118T020000Z
SEQUENCE:0
TRANSP:OPAQUE
DTEND:20160118T031500Z
URL:http://jmshockey.com/league/game/471
LOCATION:Eden Prairie Comm Ctr
SUMMARY:No Ragrets vs. The Pollock Factor at Eden Prairie Comm Ctr (Loon St
 ate Hockey Leagues)
CLASS:PUBLIC
DTSTAMP:20260421T130206Z
END:VEVENT
END:VCALENDAR