BEGIN:VCALENDAR
VERSION:2.0
PRODID:JMS Hockey
X-PUBLISHED-TTL:P1W
BEGIN:VEVENT
UID:69e7bb9e0cb87
DTSTART:20140424T004500Z
SEQUENCE:0
TRANSP:OPAQUE
DTEND:20140424T004500Z
URL:http://jmshockey.com/league/game/47
LOCATION:Eden Prairie Comm Ctr
SUMMARY:Original Honey Badgers vs. Awesome Possums at Eden Prairie Comm Ctr
  (Loon State Hockey Leagues)
CLASS:PUBLIC
DTSTAMP:20260421T130206Z
END:VEVENT
END:VCALENDAR