BEGIN:VCALENDAR
VERSION:2.0
PRODID:JMS Hockey
X-PUBLISHED-TTL:P1W
BEGIN:VEVENT
UID:69e7cf57e3e1d
DTSTART:20160111T033000Z
SEQUENCE:0
TRANSP:OPAQUE
DTEND:20160111T044500Z
URL:http://jmshockey.com/league/game/469
LOCATION:Eden Prairie Comm Ctr
SUMMARY:Dirty Mike and the Boys vs. The Pollock Factor at Eden Prairie Comm
  Ctr (Loon State Hockey Leagues)
CLASS:PUBLIC
DTSTAMP:20260421T142615Z
END:VEVENT
END:VCALENDAR