BEGIN:VCALENDAR
VERSION:2.0
PRODID:JMS Hockey
X-PUBLISHED-TTL:P1W
BEGIN:VEVENT
UID:69e7b1931448b
DTSTART:20160111T003000Z
SEQUENCE:0
TRANSP:OPAQUE
DTEND:20160111T014500Z
URL:http://jmshockey.com/league/game/467
LOCATION:Eden Prairie Comm Ctr
SUMMARY:Beer League Racers*** vs. No Ragrets at Eden Prairie Comm Ctr (Loon
  State Hockey Leagues)
CLASS:PUBLIC
DTSTAMP:20260421T121915Z
END:VEVENT
END:VCALENDAR