BEGIN:VCALENDAR
VERSION:2.0
PRODID:JMS Hockey
X-PUBLISHED-TTL:P1W
BEGIN:VEVENT
UID:69e797fb85f20
DTSTART:20151109T032000Z
SEQUENCE:0
TRANSP:OPAQUE
DTEND:20151109T043500Z
URL:http://jmshockey.com/league/game/437
LOCATION:Doug Woog Arena (Wakota)
SUMMARY:Rubber Puckies vs. IT'S A TRAP! at Doug Woog Arena (Wakota) (Loon S
 tate Hockey Leagues)
CLASS:PUBLIC
DTSTAMP:20260421T103003Z
END:VEVENT
END:VCALENDAR