BEGIN:VCALENDAR
VERSION:2.0
PRODID:JMS Hockey
X-PUBLISHED-TTL:P1W
BEGIN:VEVENT
UID:69e7ae07d9ec6
DTSTART:20151026T005000Z
SEQUENCE:0
TRANSP:OPAQUE
DTEND:20151026T020500Z
URL:http://jmshockey.com/league/game/432
LOCATION:Doug Woog Arena (Wakota)
SUMMARY:Rubber Puckies vs. Sunday Knights at Doug Woog Arena (Wakota) (Loon
  State Hockey Leagues)
CLASS:PUBLIC
DTSTAMP:20260421T120407Z
END:VEVENT
END:VCALENDAR