BEGIN:VCALENDAR
VERSION:2.0
PRODID:JMS Hockey
X-PUBLISHED-TTL:P1W
BEGIN:VEVENT
UID:69e79fe27a628
DTSTART:20151012T021000Z
SEQUENCE:0
TRANSP:OPAQUE
DTEND:20151012T032500Z
URL:http://jmshockey.com/league/game/429
LOCATION:Doug Woog Arena (Wakota)
SUMMARY:Minnesota Mild vs. Rubber Puckies at Doug Woog Arena (Wakota) (Loon
  State Hockey Leagues)
CLASS:PUBLIC
DTSTAMP:20260421T110346Z
END:VEVENT
END:VCALENDAR