BEGIN:VCALENDAR
VERSION:2.0
PRODID:JMS Hockey
X-PUBLISHED-TTL:P1W
BEGIN:VEVENT
UID:69e7ae0dc1e49
DTSTART:20151109T021500Z
SEQUENCE:0
TRANSP:OPAQUE
DTEND:20151109T032500Z
URL:http://jmshockey.com/league/game/413
LOCATION:Inver Grove Heights Community Center
SUMMARY:Hatrick Swayze* vs. Fighting Saints at Inver Grove Heights Communit
 y Center (Loon State Hockey Leagues)
CLASS:PUBLIC
DTSTAMP:20260421T120413Z
END:VEVENT
END:VCALENDAR