BEGIN:VCALENDAR
VERSION:2.0
PRODID:JMS Hockey
X-PUBLISHED-TTL:P1W
BEGIN:VEVENT
UID:69e7964e929ff
DTSTART:20151116T040000Z
SEQUENCE:0
TRANSP:OPAQUE
DTEND:20151116T051500Z
URL:http://jmshockey.com/league/game/406
LOCATION:Maple Grove
SUMMARY:Yetis* vs. Mid-Ice Crisis! at Maple Grove (Loon State Hockey League
 s)
CLASS:PUBLIC
DTSTAMP:20260421T102254Z
END:VEVENT
END:VCALENDAR