BEGIN:VCALENDAR
VERSION:2.0
PRODID:JMS Hockey
X-PUBLISHED-TTL:P1W
BEGIN:VEVENT
UID:69e7afd9968cc
DTSTART:20151109T041500Z
SEQUENCE:0
TRANSP:OPAQUE
DTEND:20151109T053000Z
URL:http://jmshockey.com/league/game/405
LOCATION:Maple Grove
SUMMARY:Mid-Ice Crisis! vs. Window Lickers at Maple Grove (Loon State Hocke
 y Leagues)
CLASS:PUBLIC
DTSTAMP:20260421T121153Z
END:VEVENT
END:VCALENDAR