BEGIN:VCALENDAR
VERSION:2.0
PRODID:JMS Hockey
X-PUBLISHED-TTL:P1W
BEGIN:VEVENT
UID:69e7afd854aa2
DTSTART:20151102T040000Z
SEQUENCE:0
TRANSP:OPAQUE
DTEND:20151102T051500Z
URL:http://jmshockey.com/league/game/402
LOCATION:Maple Grove
SUMMARY:Mid-Ice Crisis! vs. Yetis* at Maple Grove (Loon State Hockey League
 s)
CLASS:PUBLIC
DTSTAMP:20260421T121152Z
END:VEVENT
END:VCALENDAR