BEGIN:VCALENDAR
VERSION:2.0
PRODID:JMS Hockey
X-PUBLISHED-TTL:P1W
BEGIN:VEVENT
UID:69e7afd928595
DTSTART:20150928T004500Z
SEQUENCE:0
TRANSP:OPAQUE
DTEND:20150928T020000Z
URL:http://jmshockey.com/league/game/392
LOCATION:Maple Grove
SUMMARY:Window Lickers vs. Mid-Ice Crisis! at Maple Grove (Loon State Hocke
 y Leagues)
CLASS:PUBLIC
DTSTAMP:20260421T121153Z
END:VEVENT
END:VCALENDAR