BEGIN:VCALENDAR
VERSION:2.0
PRODID:JMS Hockey
X-PUBLISHED-TTL:P1W
BEGIN:VEVENT
UID:69e7af96e6f74
DTSTART:20140324T003000Z
SEQUENCE:0
TRANSP:OPAQUE
DTEND:20140324T003000Z
URL:http://jmshockey.com/league/game/39
LOCATION:Eden Prairie Comm Ctr
SUMMARY:The Stick Magnets vs. 100 Ways to Score at Eden Prairie Comm Ctr (L
 oon State Hockey Leagues)
CLASS:PUBLIC
DTSTAMP:20260421T121046Z
END:VEVENT
END:VCALENDAR