BEGIN:VCALENDAR
VERSION:2.0
PRODID:JMS Hockey
X-PUBLISHED-TTL:P1W
BEGIN:VEVENT
UID:69e7ae0a08a20
DTSTART:20150914T021500Z
SEQUENCE:0
TRANSP:OPAQUE
DTEND:20150914T033000Z
URL:http://jmshockey.com/league/game/389
LOCATION:Maple Grove
SUMMARY:Yetis* vs. Window Lickers at Maple Grove (Loon State Hockey Leagues
 )
CLASS:PUBLIC
DTSTAMP:20260421T120410Z
END:VEVENT
END:VCALENDAR