BEGIN:VCALENDAR
VERSION:2.0
PRODID:JMS Hockey
X-PUBLISHED-TTL:P1W
BEGIN:VEVENT
UID:69e7ba2185452
DTSTART:20151109T033000Z
SEQUENCE:0
TRANSP:OPAQUE
DTEND:20151109T044500Z
URL:http://jmshockey.com/league/game/382
LOCATION:Eden Prairie Comm Ctr
SUMMARY:Beer League Racers** vs. Dirty Mike and the Boys at Eden Prairie Co
 mm Ctr (Loon State Hockey Leagues)
CLASS:PUBLIC
DTSTAMP:20260421T125545Z
END:VEVENT
END:VCALENDAR