BEGIN:VCALENDAR
VERSION:2.0
PRODID:JMS Hockey
X-PUBLISHED-TTL:P1W
BEGIN:VEVENT
UID:69e7a7eac8272
DTSTART:20151102T033000Z
SEQUENCE:0
TRANSP:OPAQUE
DTEND:20151102T044500Z
URL:http://jmshockey.com/league/game/380
LOCATION:Eden Prairie Comm Ctr
SUMMARY:Beer League Racers** vs. BBB* (Biscuit Burying Brotherhood) at Eden
  Prairie Comm Ctr (Loon State Hockey Leagues)
CLASS:PUBLIC
DTSTAMP:20260421T113802Z
END:VEVENT
END:VCALENDAR