BEGIN:VCALENDAR
VERSION:2.0
PRODID:JMS Hockey
X-PUBLISHED-TTL:P1W
BEGIN:VEVENT
UID:69e7a7ea57521
DTSTART:20151026T014500Z
SEQUENCE:0
TRANSP:OPAQUE
DTEND:20151026T030000Z
URL:http://jmshockey.com/league/game/378
LOCATION:Eden Prairie Comm Ctr
SUMMARY:Sofa Kings vs. Beer League Racers** at Eden Prairie Comm Ctr (Loon 
 State Hockey Leagues)
CLASS:PUBLIC
DTSTAMP:20260421T113802Z
END:VEVENT
END:VCALENDAR