BEGIN:VCALENDAR
VERSION:2.0
PRODID:JMS Hockey
X-PUBLISHED-TTL:P1W
BEGIN:VEVENT
UID:69e7afcf28a88
DTSTART:20140303T031500Z
SEQUENCE:0
TRANSP:OPAQUE
DTEND:20140303T031500Z
URL:http://jmshockey.com/league/game/34
LOCATION:Eden Prairie Comm Ctr
SUMMARY:100 Ways to Score vs. The Eh Team at Eden Prairie Comm Ctr (Loon St
 ate Hockey Leagues)
CLASS:PUBLIC
DTSTAMP:20260421T121143Z
END:VEVENT
END:VCALENDAR