BEGIN:VCALENDAR
VERSION:2.0
PRODID:JMS Hockey
X-PUBLISHED-TTL:P1W
BEGIN:VEVENT
UID:69e7a5a08a1d8
DTSTART:20150817T013000Z
SEQUENCE:0
TRANSP:OPAQUE
DTEND:20150817T024500Z
URL:http://jmshockey.com/league/game/325
LOCATION:Eden Prairie Comm Ctr
SUMMARY:Beer League Racers* vs. Seal Team Sticks at Eden Prairie Comm Ctr (
 Loon State Hockey Leagues)
CLASS:PUBLIC
DTSTAMP:20260421T112816Z
END:VEVENT
END:VCALENDAR