BEGIN:VCALENDAR
VERSION:2.0
PRODID:JMS Hockey
X-PUBLISHED-TTL:P1W
BEGIN:VEVENT
UID:69e791e867727
DTSTART:20150727T010000Z
SEQUENCE:0
TRANSP:OPAQUE
DTEND:20150727T021500Z
URL:http://jmshockey.com/league/game/319
LOCATION:Eden Prairie Comm Ctr
SUMMARY:Water Bottle Flight Technicians vs. The Quebec No-Dekes at Eden Pra
 irie Comm Ctr (Loon State Hockey Leagues)
CLASS:PUBLIC
DTSTAMP:20260421T100408Z
END:VEVENT
END:VCALENDAR